Workbook

Sheet 記録１
A1: ２０２５年度 １００万歩運動・貯筋通帳 | N1: 達成歩数 | Q1: 50万歩達成 | T1: 100万歩達成 | V1: 200万歩達成
O2: ◎目標に向かって、さぁﾁｬﾚﾝｼﾞ、ﾁｬﾚﾝｼﾞ！ 頑張ろう！！
A3: 2025 | B3: 年 | C3: 6 | D3: 月 | I3: 2025 | J3: 年 | K3: =IF(VLOOKUP(記録１!C3,Sheet1!A2:I10,2,FALSE)="","",VLOOKUP(記録１!C3,Sheet1!A2:I10,2,FALSE)) -> 7 | L3: 月 | Q3: =IF(S3="","",IF(OR(S3=1,S3=2),記録１!A3+VLOOKUP(記録１!C3,Sheet1!A2:J10,10,FALSE),記録１!A3)) -> 2025 | R3: 年 | S3: =IF(VLOOKUP(記録１!C3,Sheet1!A2:I10,3,FALSE)="","",VLOOKUP(記録１!C3,Sheet1!A2:I10,3,FALSE)) -> 8 | T3: 月 | V3: ばんたに自治振興会
A4: 日 | C4: 曜日 | D4: １日の歩数 | F4: 今日までの歩数 | I4: 日 | K4: 曜日 | L4: １日の歩数 | N4: 今日までの歩数 | Q4: 日 | S4: 曜日 | T4: １日の歩数 | V4: 今日までの歩数
A5: １ | B5: 日 | C5: =IF(A$3<>"",DATE(A$3,C$3,VALUE(A5)),"（ ）") -> 45809 | E5: 歩 | F5: =D5 -> 0 | G5: 歩 | I5: １ | J5: 日 | K5: =IF(I$3<>"",DATE(I$3,K$3,VALUE(I5)),"（ ）") -> 45839 | M5: 歩 | N5: =F34+L5 -> 0 | O5: 歩 | Q5: １ | R5: 日 | S5: =IF(Q$3<>"",DATE(Q$3,S$3,VALUE(Q5)),"（ ）") -> 45870 | U5: 歩 | V5: =N35+T5 -> 0 | W5: 歩
A6: ２ | B6: 日 | C6: =IF(A$3<>"",DATE(A$3,C$3,VALUE(A6)),"（ ）") -> 45810 | E6: 歩 | F6: =F5+D6 -> 0 | G6: 歩 | I6: ２ | J6: 日 | K6: =IF(I$3<>"",DATE(I$3,K$3,VALUE(I6)),"（ ）") -> 45840 | M6: 歩 | N6: =N5+L6 -> 0 | O6: 歩 | Q6: ２ | R6: 日 | S6: =IF(Q$3<>"",DATE(Q$3,S$3,VALUE(Q6)),"（ ）") -> 45871 | U6: 歩 | V6: =V5+T6 -> 0 | W6: 歩
A7: ３ | B7: 日 | C7: =IF(A$3<>"",DATE(A$3,C$3,VALUE(A7)),"（ ）") -> 45811 | E7: 歩 | F7: =F6+D7 -> 0 | G7: 歩 | I7: ３ | J7: 日 | K7: =IF(I$3<>"",DATE(I$3,K$3,VALUE(I7)),"（ ）") -> 45841 | M7: 歩 | N7: =N6+L7 -> 0 | O7: 歩 | Q7: ３ | R7: 日 | S7: =IF(Q$3<>"",DATE(Q$3,S$3,VALUE(Q7)),"（ ）") -> 45872 | U7: 歩 | V7: =V6+T7 -> 0 | W7: 歩
A8: ４ | B8: 日 | C8: =IF(A$3<>"",DATE(A$3,C$3,VALUE(A8)),"（ ）") -> 45812 | E8: 歩 | F8: =F7+D8 -> 0 | G8: 歩 | I8: ４ | J8: 日 | K8: =IF(I$3<>"",DATE(I$3,K$3,VALUE(I8)),"（ ）") -> 45842 | M8: 歩 | N8: =N7+L8 -> 0 | O8: 歩 | Q8: ４ | R8: 日 | S8: =IF(Q$3<>"",DATE(Q$3,S$3,VALUE(Q8)),"（ ）") -> 45873 | U8: 歩 | V8: =V7+T8 -> 0 | W8: 歩
A9: ５ | B9: 日 | C9: =IF(A$3<>"",DATE(A$3,C$3,VALUE(A9)),"（ ）") -> 45813 | E9: 歩 | F9: =F8+D9 -> 0 | G9: 歩 | I9: ５ | J9: 日 | K9: =IF(I$3<>"",DATE(I$3,K$3,VALUE(I9)),"（ ）") -> 45843 | M9: 歩 | N9: =N8+L9 -> 0 | O9: 歩 | Q9: ５ | R9: 日 | S9: =IF(Q$3<>"",DATE(Q$3,S$3,VALUE(Q9)),"（ ）") -> 45874 | U9: 歩 | V9: =V8+T9 -> 0 | W9: 歩
A10: ６ | B10: 日 | C10: =IF(A$3<>"",DATE(A$3,C$3,VALUE(A10)),"（ ）") -> 45814 | E10: 歩 | F10: =F9+D10 -> 0 | G10: 歩 | I10: ６ | J10: 日 | K10: =IF(I$3<>"",DATE(I$3,K$3,VALUE(I10)),"（ ）") -> 45844 | M10: 歩 | N10: =N9+L10 -> 0 | O10: 歩 | Q10: ６ | R10: 日 | S10: =IF(Q$3<>"",DATE(Q$3,S$3,VALUE(Q10)),"（ ）") -> 45875 | U10: 歩 | V10: =V9+T10 -> 0 | W10: 歩
A11: ７ | B11: 日 | C11: =IF(A$3<>"",DATE(A$3,C$3,VALUE(A11)),"（ ）") -> 45815 | E11: 歩 | F11: =F10+D11 -> 0 | G11: 歩 | I11: ７ | J11: 日 | K11: =IF(I$3<>"",DATE(I$3,K$3,VALUE(I11)),"（ ）") -> 45845 | M11: 歩 | N11: =N10+L11 -> 0 | O11: 歩 | Q11: ７ | R11: 日 | S11: =IF(Q$3<>"",DATE(Q$3,S$3,VALUE(Q11)),"（ ）") -> 45876 | U11: 歩 | V11: =V10+T11 -> 0 | W11: 歩
A12: ８ | B12: 日 | C12: =IF(A$3<>"",DATE(A$3,C$3,VALUE(A12)),"（ ）") -> 45816 | E12: 歩 | F12: =F11+D12 -> 0 | G12: 歩 | I12: ８ | J12: 日 | K12: =IF(I$3<>"",DATE(I$3,K$3,VALUE(I12)),"（ ）") -> 45846 | M12: 歩 | N12: =N11+L12 -> 0 | O12: 歩 | Q12: ８ | R12: 日 | S12: =IF(Q$3<>"",DATE(Q$3,S$3,VALUE(Q12)),"（ ）") -> 45877 | U12: 歩 | V12: =V11+T12 -> 0 | W12: 歩
A13: ９ | B13: 日 | C13: =IF(A$3<>"",DATE(A$3,C$3,VALUE(A13)),"（ ）") -> 45817 | E13: 歩 | F13: =F12+D13 -> 0 | G13: 歩 | I13: ９ | J13: 日 | K13: =IF(I$3<>"",DATE(I$3,K$3,VALUE(I13)),"（ ）") -> 45847 | M13: 歩 | N13: =N12+L13 -> 0 | O13: 歩 | Q13: ９ | R13: 日 | S13: =IF(Q$3<>"",DATE(Q$3,S$3,VALUE(Q13)),"（ ）") -> 45878 | U13: 歩 | V13: =V12+T13 -> 0 | W13: 歩
A14: １０ | B14: 日 | C14: =IF(A$3<>"",DATE(A$3,C$3,VALUE(A14)),"（ ）") -> 45818 | E14: 歩 | F14: =F13+D14 -> 0 | G14: 歩 | I14: １０ | J14: 日 | K14: =IF(I$3<>"",DATE(I$3,K$3,VALUE(I14)),"（ ）") -> 45848 | M14: 歩 | N14: =N13+L14 -> 0 | O14: 歩 | Q14: １０ | R14: 日 | S14: =IF(Q$3<>"",DATE(Q$3,S$3,VALUE(Q14)),"（ ）") -> 45879 | U14: 歩 | V14: =V13+T14 -> 0 | W14: 歩
A15: １１ | B15: 日 | C15: =IF(A$3<>"",DATE(A$3,C$3,VALUE(A15)),"（ ）") -> 45819 | E15: 歩 | F15: =F14+D15 -> 0 | G15: 歩 | I15: １１ | J15: 日 | K15: =IF(I$3<>"",DATE(I$3,K$3,VALUE(I15)),"（ ）") -> 45849 | M15: 歩 | N15: =N14+L15 -> 0 | O15: 歩 | Q15: １１ | R15: 日 | S15: =IF(Q$3<>"",DATE(Q$3,S$3,VALUE(Q15)),"（ ）") -> 45880 | U15: 歩 | V15: =V14+T15 -> 0 | W15: 歩
A16: １２ | B16: 日 | C16: =IF(A$3<>"",DATE(A$3,C$3,VALUE(A16)),"（ ）") -> 45820 | E16: 歩 | F16: =F15+D16 -> 0 | G16: 歩 | I16: １２ | J16: 日 | K16: =IF(I$3<>"",DATE(I$3,K$3,VALUE(I16)),"（ ）") -> 45850 | M16: 歩 | N16: =N15+L16 -> 0 | O16: 歩 | Q16: １２ | R16: 日 | S16: =IF(Q$3<>"",DATE(Q$3,S$3,VALUE(Q16)),"（ ）") -> 45881 | U16: 歩 | V16: =V15+T16 -> 0 | W16: 歩
A17: １３ | B17: 日 | C17: =IF(A$3<>"",DATE(A$3,C$3,VALUE(A17)),"（ ）") -> 45821 | E17: 歩 | F17: =F16+D17 -> 0 | G17: 歩 | I17: １３ | J17: 日 | K17: =IF(I$3<>"",DATE(I$3,K$3,VALUE(I17)),"（ ）") -> 45851 | M17: 歩 | N17: =N16+L17 -> 0 | O17: 歩 | Q17: １３ | R17: 日 | S17: =IF(Q$3<>"",DATE(Q$3,S$3,VALUE(Q17)),"（ ）") -> 45882 | U17: 歩 | V17: =V16+T17 -> 0 | W17: 歩
... A34: ３０ | B34: 日 | C34: =IF(A$3<>"",DATE(A$3,C$3,VALUE(A34)),"（ ）") -> 45838 | E34: 歩 | F34: =F33+D34 -> 0 | G34: 歩 | I34: ３０ | J34: 日 | K34: =IF(I$3<>"",DATE(I$3,K$3,VALUE(I34)),"（ ）") -> 45868 | M34: 歩 | N34: =N33+L34 -> 0 | O34: 歩 | Q34: ３０ | R34: 日 | S34: =IF(Q$3<>"",DATE(Q$3,S$3,VALUE(Q34)),"（ ）") -> 45899 | U34: 歩 | V34: =V33+T34 -> 0 | W34: 歩
I35: ３１ | J35: 日 | K35: =IF(I$3<>"",DATE(I$3,K$3,VALUE(I35)),"（ ）") -> 45869 | M35: 歩 | N35: =N34+L35 -> 0 | O35: 歩 | Q35: ３１ | R35: 日 | S35: =IF(Q$3<>"",DATE(Q$3,S$3,VALUE(Q35)),"（ ）") -> 45900 | U35: 歩 | V35: =V34+T35 -> 0 | W35: 歩
D37: 氏 名 | L37: 受付番号

Sheet 記録２
A1: ２０２５年度 １００万歩運動・貯筋通帳 | N1: 達成歩数 | Q1: 50万歩達成 | T1: 100万歩達成 | V1: 200万歩達成
O2: ◎目標に向かって、さぁﾁｬﾚﾝｼﾞ、ﾁｬﾚﾝｼﾞ！ 頑張ろう！！
A3: =IF(C3="","",IF(OR(C3=1,C3=2),記録１!A3+VLOOKUP(記録１!C3,Sheet1!A2:J10,10,FALSE),記録１!A3)) -> 2025 | B3: 年 | C3: =IF(VLOOKUP(記録１!C3,Sheet1!A2:I10,4,FALSE)="","",VLOOKUP(記録１!C3,Sheet1!A2:I10,4,FALSE)) -> 9 | D3: 月 | I3: =IF(K3="","",IF(OR(K3=1,K3=2),記録１!A3+VLOOKUP(記録１!C3,Sheet1!A2:J10,10,FALSE),記録１!A3)) -> 2025 | J3: 年 | K3: =IF(VLOOKUP(記録１!C3,Sheet1!A2:I10,5,FALSE)="","",VLOOKUP(記録１!C3,Sheet1!A2:I10,5,FALSE)) -> 10 | L3: 月 | Q3: =IF(S3="","",IF(OR(S3=1,S3=2),記録１!A3+VLOOKUP(記録１!C3,Sheet1!A2:J10,10,FALSE),記録１!A3)) -> 2025 | R3: 年 | S3: =IF(VLOOKUP(記録１!C3,Sheet1!A2:I10,6,FALSE)="","",VLOOKUP(記録１!C3,Sheet1!A2:I10,6,FALSE)) -> 11 | T3: 月 | V3: ばんたに自治振興会
A4: 日 | C4: 曜日 | D4: １日の歩数 | F4: 今日までの歩数 | I4: 日 | K4: 曜日 | L4: １日の歩数 | N4: 今日までの歩数 | Q4: 日 | S4: 曜日 | T4: １日の歩数 | V4: 今日までの歩数
A5: １ | B5: 日 | C5: =IF(A$3<>"",DATE(A$3,C$3,VALUE(A5)),"（ ）") -> 45901 | E5: 歩 | F5: =記録１!V35+D5 -> 0 | G5: 歩 | I5: １ | J5: 日 | K5: =IF(I$3<>"",DATE(I$3,K$3,VALUE(I5)),"（ ）") -> 45931 | M5: 歩 | N5: =F34+L5 -> 0 | O5: 歩 | Q5: １ | R5: 日 | S5: =IF(Q$3<>"",DATE(Q$3,S$3,VALUE(Q5)),"（ ）") -> 45962 | U5: 歩 | V5: =N35+T5 -> 0 | W5: 歩
A6: ２ | B6: 日 | C6: =IF(A$3<>"",DATE(A$3,C$3,VALUE(A6)),"（ ）") -> 45902 | E6: 歩 | F6: =F5+D6 -> 0 | G6: 歩 | I6: ２ | J6: 日 | K6: =IF(I$3<>"",DATE(I$3,K$3,VALUE(I6)),"（ ）") -> 45932 | M6: 歩 | N6: =N5+L6 -> 0 | O6: 歩 | Q6: ２ | R6: 日 | S6: =IF(Q$3<>"",DATE(Q$3,S$3,VALUE(Q6)),"（ ）") -> 45963 | U6: 歩 | V6: =V5+T6 -> 0 | W6: 歩
A7: ３ | B7: 日 | C7: =IF(A$3<>"",DATE(A$3,C$3,VALUE(A7)),"（ ）") -> 45903 | E7: 歩 | F7: =F6+D7 -> 0 | G7: 歩 | I7: ３ | J7: 日 | K7: =IF(I$3<>"",DATE(I$3,K$3,VALUE(I7)),"（ ）") -> 45933 | M7: 歩 | N7: =N6+L7 -> 0 | O7: 歩 | Q7: ３ | R7: 日 | S7: =IF(Q$3<>"",DATE(Q$3,S$3,VALUE(Q7)),"（ ）") -> 45964 | U7: 歩 | V7: =V6+T7 -> 0 | W7: 歩
A8: ４ | B8: 日 | C8: =IF(A$3<>"",DATE(A$3,C$3,VALUE(A8)),"（ ）") -> 45904 | E8: 歩 | F8: =F7+D8 -> 0 | G8: 歩 | I8: ４ | J8: 日 | K8: =IF(I$3<>"",DATE(I$3,K$3,VALUE(I8)),"（ ）") -> 45934 | M8: 歩 | N8: =N7+L8 -> 0 | O8: 歩 | Q8: ４ | R8: 日 | S8: =IF(Q$3<>"",DATE(Q$3,S$3,VALUE(Q8)),"（ ）") -> 45965 | U8: 歩 | V8: =V7+T8 -> 0 | W8: 歩
A9: ５ | B9: 日 | C9: =IF(A$3<>"",DATE(A$3,C$3,VALUE(A9)),"（ ）") -> 45905 | E9: 歩 | F9: =F8+D9 -> 0 | G9: 歩 | I9: ５ | J9: 日 | K9: =IF(I$3<>"",DATE(I$3,K$3,VALUE(I9)),"（ ）") -> 45935 | M9: 歩 | N9: =N8+L9 -> 0 | O9: 歩 | Q9: ５ | R9: 日 | S9: =IF(Q$3<>"",DATE(Q$3,S$3,VALUE(Q9)),"（ ）") -> 45966 | U9: 歩 | V9: =V8+T9 -> 0 | W9: 歩
A10: ６ | B10: 日 | C10: =IF(A$3<>"",DATE(A$3,C$3,VALUE(A10)),"（ ）") -> 45906 | E10: 歩 | F10: =F9+D10 -> 0 | G10: 歩 | I10: ６ | J10: 日 | K10: =IF(I$3<>"",DATE(I$3,K$3,VALUE(I10)),"（ ）") -> 45936 | M10: 歩 | N10: =N9+L10 -> 0 | O10: 歩 | Q10: ６ | R10: 日 | S10: =IF(Q$3<>"",DATE(Q$3,S$3,VALUE(Q10)),"（ ）") -> 45967 | U10: 歩 | V10: =V9+T10 -> 0 | W10: 歩
A11: ７ | B11: 日 | C11: =IF(A$3<>"",DATE(A$3,C$3,VALUE(A11)),"（ ）") -> 45907 | E11: 歩 | F11: =F10+D11 -> 0 | G11: 歩 | I11: ７ | J11: 日 | K11: =IF(I$3<>"",DATE(I$3,K$3,VALUE(I11)),"（ ）") -> 45937 | M11: 歩 | N11: =N10+L11 -> 0 | O11: 歩 | Q11: ７ | R11: 日 | S11: =IF(Q$3<>"",DATE(Q$3,S$3,VALUE(Q11)),"（ ）") -> 45968 | U11: 歩 | V11: =V10+T11 -> 0 | W11: 歩
A12: ８ | B12: 日 | C12: =IF(A$3<>"",DATE(A$3,C$3,VALUE(A12)),"（ ）") -> 45908 | E12: 歩 | F12: =F11+D12 -> 0 | G12: 歩 | I12: ８ | J12: 日 | K12: =IF(I$3<>"",DATE(I$3,K$3,VALUE(I12)),"（ ）") -> 45938 | M12: 歩 | N12: =N11+L12 -> 0 | O12: 歩 | Q12: ８ | R12: 日 | S12: =IF(Q$3<>"",DATE(Q$3,S$3,VALUE(Q12)),"（ ）") -> 45969 | U12: 歩 | V12: =V11+T12 -> 0 | W12: 歩
A13: ９ | B13: 日 | C13: =IF(A$3<>"",DATE(A$3,C$3,VALUE(A13)),"（ ）") -> 45909 | E13: 歩 | F13: =F12+D13 -> 0 | G13: 歩 | I13: ９ | J13: 日 | K13: =IF(I$3<>"",DATE(I$3,K$3,VALUE(I13)),"（ ）") -> 45939 | M13: 歩 | N13: =N12+L13 -> 0 | O13: 歩 | Q13: ９ | R13: 日 | S13: =IF(Q$3<>"",DATE(Q$3,S$3,VALUE(Q13)),"（ ）") -> 45970 | U13: 歩 | V13: =V12+T13 -> 0 | W13: 歩
A14: １０ | B14: 日 | C14: =IF(A$3<>"",DATE(A$3,C$3,VALUE(A14)),"（ ）") -> 45910 | E14: 歩 | F14: =F13+D14 -> 0 | G14: 歩 | I14: １０ | J14: 日 | K14: =IF(I$3<>"",DATE(I$3,K$3,VALUE(I14)),"（ ）") -> 45940 | M14: 歩 | N14: =N13+L14 -> 0 | O14: 歩 | Q14: １０ | R14: 日 | S14: =IF(Q$3<>"",DATE(Q$3,S$3,VALUE(Q14)),"（ ）") -> 45971 | U14: 歩 | V14: =V13+T14 -> 0 | W14: 歩
A15: １１ | B15: 日 | C15: =IF(A$3<>"",DATE(A$3,C$3,VALUE(A15)),"（ ）") -> 45911 | E15: 歩 | F15: =F14+D15 -> 0 | G15: 歩 | I15: １１ | J15: 日 | K15: =IF(I$3<>"",DATE(I$3,K$3,VALUE(I15)),"（ ）") -> 45941 | M15: 歩 | N15: =N14+L15 -> 0 | O15: 歩 | Q15: １１ | R15: 日 | S15: =IF(Q$3<>"",DATE(Q$3,S$3,VALUE(Q15)),"（ ）") -> 45972 | U15: 歩 | V15: =V14+T15 -> 0 | W15: 歩
A16: １２ | B16: 日 | C16: =IF(A$3<>"",DATE(A$3,C$3,VALUE(A16)),"（ ）") -> 45912 | E16: 歩 | F16: =F15+D16 -> 0 | G16: 歩 | I16: １２ | J16: 日 | K16: =IF(I$3<>"",DATE(I$3,K$3,VALUE(I16)),"（ ）") -> 45942 | M16: 歩 | N16: =N15+L16 -> 0 | O16: 歩 | Q16: １２ | R16: 日 | S16: =IF(Q$3<>"",DATE(Q$3,S$3,VALUE(Q16)),"（ ）") -> 45973 | U16: 歩 | V16: =V15+T16 -> 0 | W16: 歩
A17: １３ | B17: 日 | C17: =IF(A$3<>"",DATE(A$3,C$3,VALUE(A17)),"（ ）") -> 45913 | E17: 歩 | F17: =F16+D17 -> 0 | G17: 歩 | I17: １３ | J17: 日 | K17: =IF(I$3<>"",DATE(I$3,K$3,VALUE(I17)),"（ ）") -> 45943 | M17: 歩 | N17: =N16+L17 -> 0 | O17: 歩 | Q17: １３ | R17: 日 | S17: =IF(Q$3<>"",DATE(Q$3,S$3,VALUE(Q17)),"（ ）") -> 45974 | U17: 歩 | V17: =V16+T17 -> 0 | W17: 歩
... A34: ３０ | B34: 日 | C34: =IF(A$3<>"",DATE(A$3,C$3,VALUE(A34)),"（ ）") -> 45930 | E34: 歩 | F34: =F33+D34 -> 0 | G34: 歩 | I34: ３０ | J34: 日 | K34: =IF(I$3<>"",DATE(I$3,K$3,VALUE(I34)),"（ ）") -> 45960 | M34: 歩 | N34: =N33+L34 -> 0 | O34: 歩 | Q34: ３０ | R34: 日 | S34: =IF(Q$3<>"",DATE(Q$3,S$3,VALUE(Q34)),"（ ）") -> 45991 | U34: 歩 | V34: =V33+T34 -> 0 | W34: 歩
I35: ３１ | J35: 日 | K35: =IF(I$3<>"",DATE(I$3,K$3,VALUE(I35)),"（ ）") -> 45961 | M35: 歩 | N35: =N34+L35 -> 0 | O35: 歩
D37: 氏 名 | E37: =IF(記録１!E37<>"",記録１!E37,"") | L37: 受付番号 | M37: =IF(記録１!M37<>"",記録１!M37,"")

Sheet 記録３
A1: ２０２５年度 １００万歩運動・貯筋通帳 | N1: 達成歩数 | Q1: 50万歩達成 | T1: 100万歩達成 | V1: 200万歩達成
O2: ◎目標に向かって、さぁﾁｬﾚﾝｼﾞ、ﾁｬﾚﾝｼﾞ！ 頑張ろう！！
A3: =IF(C3="","",IF(OR(C3=1,C3=2),記録１!A3+VLOOKUP(記録１!C3,Sheet1!A2:J10,10,FALSE),記録１!A3)) -> 2025 | B3: 年 | C3: =IF(VLOOKUP(記録１!C3,Sheet1!A2:I10,7,FALSE)="","",VLOOKUP(記録１!C3,Sheet1!A2:I10,7,FALSE)) -> 12 | D3: 月 | I3: =IF(K3="","",IF(OR(K3=1,K3=2),記録１!A3+VLOOKUP(記録１!C3,Sheet1!A2:J10,10,FALSE),記録１!A3)) -> 2026 | J3: 年 | K3: =IF(VLOOKUP(記録１!C3,Sheet1!A2:I10,8,FALSE)="","",VLOOKUP(記録１!C3,Sheet1!A2:I10,8,FALSE)) -> 1 | L3: 月 | Q3: =IF(S3="","",IF(OR(S3=1,S3=2),記録１!A3+VLOOKUP(記録１!C3,Sheet1!A2:J10,10,FALSE),記録１!A3)) -> 2026 | R3: 年 | S3: =IF(VLOOKUP(記録１!C3,Sheet1!A2:I10,9,FALSE)="","",VLOOKUP(記録１!C3,Sheet1!A2:I10,9,FALSE)) -> 2 | T3: 月 | V3: ばんたに自治振興会
A4: 日 | C4: 曜日 | D4: １日の歩数 | F4: 今日までの歩数 | I4: 日 | K4: 曜日 | L4: １日の歩数 | N4: 今日までの歩数 | Q4: 日 | S4: 曜日 | T4: １日の歩数 | V4: 今日までの歩数
A5: １ | B5: 日 | C5: =IF(A$3<>"",DATE(A$3,C$3,VALUE(A5)),"（ ）") -> 45992 | E5: 歩 | F5: =記録２!V34+D5 -> 0 | G5: 歩 | I5: １ | J5: 日 | K5: =IF(I$3<>"",DATE(I$3,K$3,VALUE(I5)),"（ ）") -> 46023 | M5: 歩 | N5: =F35+L5 -> 0 | O5: 歩 | Q5: １ | R5: 日 | S5: =IF(Q$3<>"",DATE(Q$3,S$3,VALUE(Q5)),"（ ）") -> 46054 | U5: 歩 | V5: =N35+T5 -> 0 | W5: 歩
A6: ２ | B6: 日 | C6: =IF(A$3<>"",DATE(A$3,C$3,VALUE(A6)),"（ ）") -> 45993 | E6: 歩 | F6: =F5+D6 -> 0 | G6: 歩 | I6: ２ | J6: 日 | K6: =IF(I$3<>"",DATE(I$3,K$3,VALUE(I6)),"（ ）") -> 46024 | M6: 歩 | N6: =N5+L6 -> 0 | O6: 歩 | Q6: ２ | R6: 日 | S6: =IF(Q$3<>"",DATE(Q$3,S$3,VALUE(Q6)),"（ ）") -> 46055 | U6: 歩 | V6: =V5+T6 -> 0 | W6: 歩
A7: ３ | B7: 日 | C7: =IF(A$3<>"",DATE(A$3,C$3,VALUE(A7)),"（ ）") -> 45994 | E7: 歩 | F7: =F6+D7 -> 0 | G7: 歩 | I7: ３ | J7: 日 | K7: =IF(I$3<>"",DATE(I$3,K$3,VALUE(I7)),"（ ）") -> 46025 | M7: 歩 | N7: =N6+L7 -> 0 | O7: 歩 | Q7: ３ | R7: 日 | S7: =IF(Q$3<>"",DATE(Q$3,S$3,VALUE(Q7)),"（ ）") -> 46056 | U7: 歩 | V7: =V6+T7 -> 0 | W7: 歩
A8: ４ | B8: 日 | C8: =IF(A$3<>"",DATE(A$3,C$3,VALUE(A8)),"（ ）") -> 45995 | E8: 歩 | F8: =F7+D8 -> 0 | G8: 歩 | I8: ４ | J8: 日 | K8: =IF(I$3<>"",DATE(I$3,K$3,VALUE(I8)),"（ ）") -> 46026 | M8: 歩 | N8: =N7+L8 -> 0 | O8: 歩 | Q8: ４ | R8: 日 | S8: =IF(Q$3<>"",DATE(Q$3,S$3,VALUE(Q8)),"（ ）") -> 46057 | U8: 歩 | V8: =V7+T8 -> 0 | W8: 歩
A9: ５ | B9: 日 | C9: =IF(A$3<>"",DATE(A$3,C$3,VALUE(A9)),"（ ）") -> 45996 | E9: 歩 | F9: =F8+D9 -> 0 | G9: 歩 | I9: ５ | J9: 日 | K9: =IF(I$3<>"",DATE(I$3,K$3,VALUE(I9)),"（ ）") -> 46027 | M9: 歩 | N9: =N8+L9 -> 0 | O9: 歩 | Q9: ５ | R9: 日 | S9: =IF(Q$3<>"",DATE(Q$3,S$3,VALUE(Q9)),"（ ）") -> 46058 | U9: 歩 | V9: =V8+T9 -> 0 | W9: 歩
A10: ６ | B10: 日 | C10: =IF(A$3<>"",DATE(A$3,C$3,VALUE(A10)),"（ ）") -> 45997 | E10: 歩 | F10: =F9+D10 -> 0 | G10: 歩 | I10: ６ | J10: 日 | K10: =IF(I$3<>"",DATE(I$3,K$3,VALUE(I10)),"（ ）") -> 46028 | M10: 歩 | N10: =N9+L10 -> 0 | O10: 歩 | Q10: ６ | R10: 日 | S10: =IF(Q$3<>"",DATE(Q$3,S$3,VALUE(Q10)),"（ ）") -> 46059 | U10: 歩 | V10: =V9+T10 -> 0 | W10: 歩
A11: ７ | B11: 日 | C11: =IF(A$3<>"",DATE(A$3,C$3,VALUE(A11)),"（ ）") -> 45998 | E11: 歩 | F11: =F10+D11 -> 0 | G11: 歩 | I11: ７ | J11: 日 | K11: =IF(I$3<>"",DATE(I$3,K$3,VALUE(I11)),"（ ）") -> 46029 | M11: 歩 | N11: =N10+L11 -> 0 | O11: 歩 | Q11: ７ | R11: 日 | S11: =IF(Q$3<>"",DATE(Q$3,S$3,VALUE(Q11)),"（ ）") -> 46060 | U11: 歩 | V11: =V10+T11 -> 0 | W11: 歩
A12: ８ | B12: 日 | C12: =IF(A$3<>"",DATE(A$3,C$3,VALUE(A12)),"（ ）") -> 45999 | E12: 歩 | F12: =F11+D12 -> 0 | G12: 歩 | I12: ８ | J12: 日 | K12: =IF(I$3<>"",DATE(I$3,K$3,VALUE(I12)),"（ ）") -> 46030 | M12: 歩 | N12: =N11+L12 -> 0 | O12: 歩 | Q12: ８ | R12: 日 | S12: =IF(Q$3<>"",DATE(Q$3,S$3,VALUE(Q12)),"（ ）") -> 46061 | U12: 歩 | V12: =V11+T12 -> 0 | W12: 歩
A13: ９ | B13: 日 | C13: =IF(A$3<>"",DATE(A$3,C$3,VALUE(A13)),"（ ）") -> 46000 | E13: 歩 | F13: =F12+D13 -> 0 | G13: 歩 | I13: ９ | J13: 日 | K13: =IF(I$3<>"",DATE(I$3,K$3,VALUE(I13)),"（ ）") -> 46031 | M13: 歩 | N13: =N12+L13 -> 0 | O13: 歩 | Q13: ９ | R13: 日 | S13: =IF(Q$3<>"",DATE(Q$3,S$3,VALUE(Q13)),"（ ）") -> 46062 | U13: 歩 | V13: =V12+T13 -> 0 | W13: 歩
A14: １０ | B14: 日 | C14: =IF(A$3<>"",DATE(A$3,C$3,VALUE(A14)),"（ ）") -> 46001 | E14: 歩 | F14: =F13+D14 -> 0 | G14: 歩 | I14: １０ | J14: 日 | K14: =IF(I$3<>"",DATE(I$3,K$3,VALUE(I14)),"（ ）") -> 46032 | M14: 歩 | N14: =N13+L14 -> 0 | O14: 歩 | Q14: １０ | R14: 日 | S14: =IF(Q$3<>"",DATE(Q$3,S$3,VALUE(Q14)),"（ ）") -> 46063 | U14: 歩 | V14: =V13+T14 -> 0 | W14: 歩
A15: １１ | B15: 日 | C15: =IF(A$3<>"",DATE(A$3,C$3,VALUE(A15)),"（ ）") -> 46002 | E15: 歩 | F15: =F14+D15 -> 0 | G15: 歩 | I15: １１ | J15: 日 | K15: =IF(I$3<>"",DATE(I$3,K$3,VALUE(I15)),"（ ）") -> 46033 | M15: 歩 | N15: =N14+L15 -> 0 | O15: 歩 | Q15: １１ | R15: 日 | S15: =IF(Q$3<>"",DATE(Q$3,S$3,VALUE(Q15)),"（ ）") -> 46064 | U15: 歩 | V15: =V14+T15 -> 0 | W15: 歩
A16: １２ | B16: 日 | C16: =IF(A$3<>"",DATE(A$3,C$3,VALUE(A16)),"（ ）") -> 46003 | E16: 歩 | F16: =F15+D16 -> 0 | G16: 歩 | I16: １２ | J16: 日 | K16: =IF(I$3<>"",DATE(I$3,K$3,VALUE(I16)),"（ ）") -> 46034 | M16: 歩 | N16: =N15+L16 -> 0 | O16: 歩 | Q16: １２ | R16: 日 | S16: =IF(Q$3<>"",DATE(Q$3,S$3,VALUE(Q16)),"（ ）") -> 46065 | U16: 歩 | V16: =V15+T16 -> 0 | W16: 歩
A17: １３ | B17: 日 | C17: =IF(A$3<>"",DATE(A$3,C$3,VALUE(A17)),"（ ）") -> 46004 | E17: 歩 | F17: =F16+D17 -> 0 | G17: 歩 | I17: １３ | J17: 日 | K17: =IF(I$3<>"",DATE(I$3,K$3,VALUE(I17)),"（ ）") -> 46035 | M17: 歩 | N17: =N16+L17 -> 0 | O17: 歩 | Q17: １３ | R17: 日 | S17: =IF(Q$3<>"",DATE(Q$3,S$3,VALUE(Q17)),"（ ）") -> 46066 | U17: 歩 | V17: =V16+T17 -> 0 | W17: 歩
... A32: ２８ | B32: 日 | C32: =IF(A$3<>"",DATE(A$3,C$3,VALUE(A32)),"（ ）") -> 46019 | E32: 歩 | F32: =F31+D32 -> 0 | G32: 歩 | I32: ２８ | J32: 日 | K32: =IF(I$3<>"",DATE(I$3,K$3,VALUE(I32)),"（ ）") -> 46050 | M32: 歩 | N32: =N31+L32 -> 0 | O32: 歩 | Q32: ２８ | R32: 日 | S32: =IF(Q$3<>"",DATE(Q$3,S$3,VALUE(Q32)),"（ ）") -> 46081 | U32: 歩 | V32: =V31+T32 -> 0 | W32: 歩
A33: ２９ | B33: 日 | C33: =IF(A$3<>"",DATE(A$3,C$3,VALUE(A33)),"（ ）") -> 46020 | E33: 歩 | F33: =F32+D33 -> 0 | G33: 歩 | I33: ２９ | J33: 日 | K33: =IF(I$3<>"",DATE(I$3,K$3,VALUE(I33)),"（ ）") -> 46051 | M33: 歩 | N33: =N32+L33 -> 0 | O33: 歩
A34: ３０ | B34: 日 | C34: =IF(A$3<>"",DATE(A$3,C$3,VALUE(A34)),"（ ）") -> 46021 | E34: 歩 | F34: =F33+D34 -> 0 | G34: 歩 | I34: ３０ | J34: 日 | K34: =IF(I$3<>"",DATE(I$3,K$3,VALUE(I34)),"（ ）") -> 46052 | M34: 歩 | N34: =N33+L34 -> 0 | O34: 歩
A35: ３１ | B35: 日 | C35: =IF(A$3<>"",DATE(A$3,C$3,VALUE(A35)),"（ ）") -> 46022 | E35: 歩 | F35: =F34+D35 -> 0 | G35: 歩 | I35: ３１ | J35: 日 | K35: =IF(I$3<>"",DATE(I$3,K$3,VALUE(I35)),"（ ）") -> 46053 | M35: 歩 | N35: =N34+L35 -> 0 | O35: 歩
D37: 氏 名 | E37: =IF(記録１!E37<>"",記録１!E37,"") | L37: 受付番号 | M37: =IF(記録１!M37<>"",記録１!M37,"")

Sheet Sheet1
A1: 開始月 | J1: 年加算
A2: 6 | B2: 7 | C2: 8 | D2: 9 | E2: 10 | F2: 11 | G2: 12 | H2: 1 | I2: 2 | J2: 1
A3: 7 | B3: 8 | C3: 9 | D3: 10 | E3: 11 | F3: 12 | G3: 1 | H3: 2 | J3: 1
A4: 8 | B4: 9 | C4: 10 | D4: 11 | E4: 12 | F4: 1 | G4: 2 | J4: 1
A5: 9 | B5: 10 | C5: 11 | D5: 12 | E5: 1 | F5: 2 | J5: 1
A6: 10 | B6: 11 | C6: 12 | D6: 1 | E6: 2 | J6: 1
A7: 11 | B7: 12 | C7: 1 | D7: 2 | J7: 1
A8: 12 | B8: 1 | C8: 2 | J8: 1
A9: 1 | B9: 2 | J9: 0
A10: 2 | J10: 0
